BEGIN:VCALENDAR
VERSION:2.0
PRODID:-//Falicon - ECPv6.6.1//NONSGML v1.0//EN
CALSCALE:GREGORIAN
METHOD:PUBLISH
X-ORIGINAL-URL:https://www.falicon.fr
X-WR-CALDESC:évènements pour Falicon
REFRESH-INTERVAL;VALUE=DURATION:PT1H
X-Robots-Tag:noindex
X-PUBLISHED-TTL:PT1H
BEGIN:VTIMEZONE
TZID:Europe/Paris
BEGIN:DAYLIGHT
TZOFFSETFROM:+0100
TZOFFSETTO:+0200
TZNAME:CEST
DTSTART:20220327T010000
END:DAYLIGHT
BEGIN:STANDARD
TZOFFSETFROM:+0200
TZOFFSETTO:+0100
TZNAME:CET
DTSTART:20221030T010000
END:STANDARD
END:VTIMEZONE
BEGIN:VEVENT
DTSTART;TZID=Europe/Paris:20220319T193000
DTEND;TZID=Europe/Paris:20220319T235900
DTSTAMP:20260425T142655
CREATED:20200317T143303Z
LAST-MODIFIED:20220309T100546Z
UID:5557-1647718200-1647734340@www.falicon.fr
SUMMARY:Soirée de la St-Patrick
DESCRIPTION:Le comité des fêtes vous propose à l’occasion de la St Patrick\, une soirée irlandaise avec repas\, Samedi 19 mars 2022 à partir 19h30. Côté ambiance DJ et bière irlandaise ! \nUne boisson sera offerte à tous les Patrick et toutes les les Patricia* !\n(*sur présentation d’un justificatif d’identité).\n\n\nMenu adulte à 25 € : 1 boisson\, Scones\, Beer braised beef\, café gourmand\, irish coffee.\nMenu enfant à 10 € : 1 boisson\, Nuggets et pommes de terre au four\, un dessert.\n\n\n► Réservations : contact@comitefetesfalicon.fr ou 06 27 55 70 85
URL:https://www.falicon.fr/evenement/st-patrick/
LOCATION:Falicon – Salle Elagora
CATEGORIES:Fête
ATTACH;FMTTYPE=image/jpeg:https://www.falicon.fr/wp-content/uploads/2020/03/stPatrick-1.jpg
ORGANIZER;CN="Le Comit%C3%A9 des F%C3%AAtes":MAILTO:contact@comitefetesfalicon.fr
END:VEVENT
END:VCALENDAR