BEGIN:VCALENDAR
VERSION:2.0
PRODID:-//Falicon - ECPv6.6.1//NONSGML v1.0//EN
CALSCALE:GREGORIAN
METHOD:PUBLISH
X-ORIGINAL-URL:https://www.falicon.fr
X-WR-CALDESC:évènements pour Falicon
REFRESH-INTERVAL;VALUE=DURATION:PT1H
X-Robots-Tag:noindex
X-PUBLISHED-TTL:PT1H
BEGIN:VTIMEZONE
TZID:Europe/Paris
BEGIN:DAYLIGHT
TZOFFSETFROM:+0100
TZOFFSETTO:+0200
TZNAME:CEST
DTSTART:20210328T010000
END:DAYLIGHT
BEGIN:STANDARD
TZOFFSETFROM:+0200
TZOFFSETTO:+0100
TZNAME:CET
DTSTART:20211031T010000
END:STANDARD
END:VTIMEZONE
BEGIN:VEVENT
DTSTART;TZID=Europe/Paris:20210731T210000
DTEND;TZID=Europe/Paris:20210731T210000
DTSTAMP:20260426T022210
CREATED:20210705T135643Z
LAST-MODIFIED:20210705T135650Z
UID:6992-1627765200-1627765200@www.falicon.fr
SUMMARY:Soirée Estivale 06 - Magic Moments
DESCRIPTION:Magic Moments\, la magie autrement.\nCette année encore ce spectacle vous propose un voyage ou l’illusion devient réelle…De la magie\, du mentalisme\, de la danse\, du rire… Vous passerez un moment unique et hors du temps.. \n⚠️ PORT DU MASQUE OBLIGATOIRE ⚠️ \nPour connaître l’ensemble des spectacles proposés sur le département\, allez sur le lien suivant : https://soirees-estivales.departement06.fr/soirees-estivales-7312.html
URL:https://www.falicon.fr/evenement/soiree-estivale-06-magic-moements/
LOCATION:Falicon – Place Bellevue
CATEGORIES:Fête
ATTACH;FMTTYPE=image/jpeg:https://www.falicon.fr/wp-content/uploads/2021/07/Magic-moment.jpg
END:VEVENT
END:VCALENDAR