BEGIN:VCALENDAR
VERSION:2.0
PRODID:-//Falicon - ECPv6.6.1//NONSGML v1.0//EN
CALSCALE:GREGORIAN
METHOD:PUBLISH
X-WR-CALNAME:Falicon
X-ORIGINAL-URL:https://www.falicon.fr
X-WR-CALDESC:évènements pour Falicon
REFRESH-INTERVAL;VALUE=DURATION:PT1H
X-Robots-Tag:noindex
X-PUBLISHED-TTL:PT1H
BEGIN:VTIMEZONE
TZID:Europe/Paris
BEGIN:DAYLIGHT
TZOFFSETFROM:+0100
TZOFFSETTO:+0200
TZNAME:CEST
DTSTART:20210328T010000
END:DAYLIGHT
BEGIN:STANDARD
TZOFFSETFROM:+0200
TZOFFSETTO:+0100
TZNAME:CET
DTSTART:20211031T010000
END:STANDARD
END:VTIMEZONE
BEGIN:VEVENT
DTSTART;TZID=Europe/Paris:20210710T203000
DTEND;TZID=Europe/Paris:20210711T005900
DTSTAMP:20260426T040715
CREATED:20210630T122423Z
LAST-MODIFIED:20220726T113726Z
UID:4876-1625949000-1625965140@www.falicon.fr
SUMMARY:Soirée "Soupe au Pistou"
DESCRIPTION:L’association des Amis de Merchweiler et Castellino-Tanaro vous propose une soirée «soupe au pistou» Samedi 10 Juillet 2021. \n\n► Menu à 22 € (ou 20 € pour les adhérents) : Apéritif – Assiette mise en bouche – Soupe à volonté – Fromage – Salade – Dessert – Café\nBOISSONS NON COMPRISES \n\n►Inscriptions : bulletin d’inscription \nRenseignements : \nPar tel : 06 30 56 89 31 (Xavier Roux) – 06 76 70 35 84 (Marie-Jeanne Naulleau)\nPar mail : amisdemerchweiler@gmail.com
URL:https://www.falicon.fr/evenement/soiree-soupe-au-pistou/
LOCATION:Falicon – Salle Elagora
CATEGORIES:Fête
ATTACH;FMTTYPE=image/jpeg:https://www.falicon.fr/wp-content/uploads/2021/06/Affiche-soupe-pistou.jpg
ORGANIZER;CN="Les Amis de Merchweiler et de Castellino-Tanaro":MAILTO:amisdemerchweiler@gmail.com
END:VEVENT
END:VCALENDAR